Workbook

Sheet Read First

Sheet Basic Information
A2: Please enter the information to appear on the invoice.
B3: Name
B4: Affiliation
B5: Address
A7: Please choose your payment method.
B8: Payment Method

Sheet All Days
A1: The 22nd International Flight Inspection Symposium (IFIS2024): Group Registration Form (All Days)
A2: Please provide information for participants registering for the "All Days" category below. If applicable, kindly enter the contact person's information at the top of the list.
A5: All fields with a red asterisk (*) are required fields.
A6: Participant Information | M6: Event Participation (Please select 1 OR 2) | P6: Accompanying Persons*
M7: July 10 (Wed) | N7: July 10 (Wed)
A8: No. | B8: First Name* | C8: Last Name* | D8: Affiliation* | E8: Nationality* | F8: Date of Birth (yyyy/mm/dd) | G8: Residential Address (House Number, Street Name, City, State, Postal Code) | H8: Email Address* | I8: Phone Number | J8: Dietary Restrictions * | K8: Food Allergies | L8: Other | M8: 1. Tour of the Flight Inspection Center | N8: 2. Tour of the Flight Inspection Center & Workshop for Flight Validation (*) | O8: If you attend the Workshop, please select your Occupational Category from the drop down menu | P8: # of Accompanying Persons
A9: 1
A10: 2
A11: 3
A12: 4
A13: 5
A14: 6
A15: 7
A16: 8
A17: 9
A18: 10
A19: 11
A20: 12
... A28: 20
B29: =COUNTA(B9:B28) -> 0 | P29: =SUM(P9:P28) -> 0

Sheet One Day
A1: The 22nd International Flight Inspection Symposium (IFIS2024): Group Registration Form (One Day)
A2: Please provide information for participants registering for the "One Day" category below. If applicable, kindly enter the contact person's information at the top of the list.
A5: All fields with a red asterisk(*) are required fields.
A6: Participant Information | M6: Participation Day* | N6: Event Participation (additional charge) Please select the event which corresponds to your participating day For July 10: please select 1 OR 2
A8: No. | B8: First Name* | C8: Last Name* | D8: Affiliation* | E8: Nationality* | F8: Date of Birth (yyyy/mm/dd) | G8: Residential Address (House Number, Street Name, City, State, Postal Code) | H8: Email Address* | I8: Phone Number | J8: Dietary Restrictions* | K8: Food Allergies | L8: Other | M8: Only one day per person | N8: July 8: Opening Reception (5,000 JPY) | O8: July 9: Culture Tour (10,000 JPY) | P8: 1. July 10 (Wed): Tour of the Flight Inspection Center | Q8: 2. July 10 (Wed): Tour of the Flight Inspection Center & Workshop for Flight Validation (*) | R8: If you attend the Workshop, please select your Occupational Category from the drop down menu | S8: July 11: Gala Dinner (20,000 JPY)
A9: 1
A10: 2
A11: 3
A12: 4
A13: 5
A14: 6
A15: 7
A16: 8
A17: 9
A18: 10
A19: 11
A20: 12
... A28: 20
M29: =COUNTA(M9:M28) -> 0 | N29: =COUNTIF(N9:N28, "Yes") -> 0 | O29: =COUNTIF(O9:O28, "Yes") -> 0 | P29: =COUNTIF(P9:P28, "Yes") -> 0 | S29: =COUNTIF(S9:S28, "Yes") -> 0

Sheet INVOICE
A15: INVOICE
G16: Issue Date: 2023/10/20
A17: To: | B17: ='Basic Information'!C3 -> 0
B18: ='Basic Information'!C4 -> 0
B19: ='Basic Information'!C5 -> 0
A22: Title: | B22: The 22nd International Flight Inspection Symposium (IFIS2024)
B23: Group Registration Fee
A26: Total: | B26: =F39 -> 0
A29: Description | D29: Unit Price | E29: Quantity | F29: Amount | G29: Remarks
A31: All Days Registration Fee | D31: 80000 | E31: ='All Days'!B29 -> 0 | F31: =E31*D31 -> 0
A32: Accompanying Persons Registration Fee | D32: 35000 | E32: ='All Days'!P29 -> 0 | F32: =E32*D32 -> 0
A33: One Day Registration Fee | D33: 25000 | E33: ='One Day'!M29 -> 0 | F33: =E33*D33 -> 0
B34: July 8: Opening Reception | D34: 5000 | E34: ='One Day'!N29 -> 0 | F34: =E34*D34 -> 0
B35: July 9: Culture Tour | D35: 10000 | E35: ='One Day'!O29 -> 0 | F35: =E35*D35 -> 0
B36: July 10: Tour of the Flight Inspection Center | D36: 0 | E36: ='One Day'!P29 -> 0 | F36: =E36*D36 -> 0
B37: July 11: Gala Dinner | D37: 20000 | E37: ='One Day'!S29 -> 0 | F37: =E37*D37 -> 0
A39: Grand Total | F39: =SUM(F31:F38) -> 0
A41: [Bank Transfer Information]
A42: Payment Deadline: May 31, 2023
A44: Account Name: IFIS2024 EXECUTIVE COMMITTEE
A45: Bank Name: MIZUHO BANK, LTD.
A46: Branch: Toranomon Branch (Code 046)
A47: Account Number: 4611541
A48: Swift Code: MHCBJPJT (or MHCBJPJTXXX)
A49: Bank Address: 1-2-3 Toranomon, Minato-ku, Tokyo, Japan
A50: Tel: +81 3 3501 2331
A52: NOTE: Any bank charges incurred during transfers related to this invoice must be borne by the remitter.

Sheet Dropdown Menu
A1: Dietary Restriction
A2: None | D2: Yes | E2: None
A3: Vegetarian | D3: No | E3: 1
A4: Allergic to (Please select from the list) | E4: 2
A5: Others (Please specify) | E5: 3
E6: 4
E7: 5
A8: Eggs
A9: Dairy
A10: Gluten
A11: Peanut
A12: Buckwheat
A13: Shrimp
A14: Crab
A16: July 8 (Mon)
A17: July 9 (Tue)
A18: July 10 (Wed)
A19: July 11 (Thu)
A20: July 12 (Fri)
... A28: Bank transfer
